BEGIN:VCALENDAR
VERSION:2.0
PRODID:-//La Couture - ECPv5.0.3//NONSGML v1.0//EN
CALSCALE:GREGORIAN
METHOD:PUBLISH
X-WR-CALNAME:La Couture
X-ORIGINAL-URL:https://www.lacouture62.fr
X-WR-CALDESC:Évènements pour La Couture
BEGIN:VTIMEZONE
TZID:Europe/Paris
BEGIN:DAYLIGHT
TZOFFSETFROM:+0100
TZOFFSETTO:+0200
TZNAME:CEST
DTSTART:20150329T010000
END:DAYLIGHT
BEGIN:STANDARD
TZOFFSETFROM:+0200
TZOFFSETTO:+0100
TZNAME:CET
DTSTART:20151025T010000
END:STANDARD
END:VTIMEZONE
BEGIN:VEVENT
DTSTART;TZID=Europe/Paris:20150408T190000
DTEND;TZID=Europe/Paris:20150408T190000
DTSTAMP:20260425T001200
CREATED:20150407T141933Z
LAST-MODIFIED:20150407T141933Z
UID:2402-1428519600-1428519600@www.lacouture62.fr
SUMMARY:Conseil municipal
DESCRIPTION:Le prochain conseil municipal se réunira le mercredi 8 avril 2015 à 19h00 en mairie. \n
URL:https://www.lacouture62.fr/event/conseil-municipal/
LOCATION:Mairie\, 29 rue du Rietz\, LA COUTURE\, 62136
ATTACH;FMTTYPE=image/jpeg:https://www.lacouture62.fr/wp-content/uploads/2015/04/6501_387_conseil-municipal.jpg
END:VEVENT
END:VCALENDAR