BEGIN:VCALENDAR
VERSION:2.0
PRODID:-//La Couture - ECPv5.0.3//NONSGML v1.0//EN
CALSCALE:GREGORIAN
METHOD:PUBLISH
X-WR-CALNAME:La Couture
X-ORIGINAL-URL:https://www.lacouture62.fr
X-WR-CALDESC:Évènements pour La Couture
BEGIN:VTIMEZONE
TZID:Europe/Paris
BEGIN:DAYLIGHT
TZOFFSETFROM:+0100
TZOFFSETTO:+0200
TZNAME:CEST
DTSTART:20180325T010000
END:DAYLIGHT
BEGIN:STANDARD
TZOFFSETFROM:+0200
TZOFFSETTO:+0100
TZNAME:CET
DTSTART:20181028T010000
END:STANDARD
END:VTIMEZONE
BEGIN:VEVENT
DTSTART;TZID=Europe/Paris:20180603T090000
DTEND;TZID=Europe/Paris:20180603T180000
DTSTAMP:20260421T082803
CREATED:20180530T094706Z
LAST-MODIFIED:20180530T094706Z
UID:4344-1528016400-1528048800@www.lacouture62.fr
SUMMARY:Fermes en fête
DESCRIPTION:La brasserie de la ferme de la Lawe située au 1172 rue du Pont d’Agronssart vous ouvre ses portes le dimanche 3 juin de 9h à 18h. \nVenez y rencontrer 3 agriculteurs lacouturois : Frédéric Desmedt\, Michel Bariselle et Bruno Dupont. \nAu programme : \n\n Dégustation de la bière la Bellotte et visite de la micro-brasserie\nDégustation de viande de porc\nAtelier ludique autour de la fraise\n\n  \n
URL:https://www.lacouture62.fr/event/fermes-en-fete-2/
LOCATION:Ferme de la Lawe\, 1172 rue du Pont d'Agronssart\, LA COUTURE\, 62136\, France
CATEGORIES:Environnement
ATTACH;FMTTYPE=image/jpeg:https://www.lacouture62.fr/wp-content/uploads/2018/05/affiche-ferme-en-fete-2018-OK-DEF_0.jpg
END:VEVENT
END:VCALENDAR