BEGIN:VCALENDAR
VERSION:2.0
PRODID:-//La Couture - ECPv5.0.3//NONSGML v1.0//EN
CALSCALE:GREGORIAN
METHOD:PUBLISH
X-WR-CALNAME:La Couture
X-ORIGINAL-URL:https://www.lacouture62.fr
X-WR-CALDESC:Évènements pour La Couture
BEGIN:VTIMEZONE
TZID:Europe/Paris
BEGIN:DAYLIGHT
TZOFFSETFROM:+0100
TZOFFSETTO:+0200
TZNAME:CEST
DTSTART:20230326T010000
END:DAYLIGHT
BEGIN:STANDARD
TZOFFSETFROM:+0200
TZOFFSETTO:+0100
TZNAME:CET
DTSTART:20231029T010000
END:STANDARD
END:VTIMEZONE
BEGIN:VEVENT
DTSTART;TZID=Europe/Paris:20230408T100000
DTEND;TZID=Europe/Paris:20230408T120000
DTSTAMP:20260421T082719
CREATED:20230323T135633Z
LAST-MODIFIED:20230323T140943Z
UID:7604-1680948000-1680955200@www.lacouture62.fr
SUMMARY:Pâques 2023
DESCRIPTION:
URL:https://www.lacouture62.fr/event/paques-2023/
LOCATION:Parc des 3 M\, Place de l'église\, La Couture\, 62136\, France
CATEGORIES:Loisirs
ATTACH;FMTTYPE=image/jpeg:https://www.lacouture62.fr/wp-content/uploads/2023/03/päques-2023_page-0001.jpg
END:VEVENT
END:VCALENDAR