BEGIN:VCALENDAR
VERSION:2.0
PRODID:-//La Couture - ECPv5.0.3//NONSGML v1.0//EN
CALSCALE:GREGORIAN
METHOD:PUBLISH
X-WR-CALNAME:La Couture
X-ORIGINAL-URL:https://www.lacouture62.fr
X-WR-CALDESC:Évènements pour La Couture
BEGIN:VTIMEZONE
TZID:Europe/Paris
BEGIN:DAYLIGHT
TZOFFSETFROM:+0100
TZOFFSETTO:+0200
TZNAME:CEST
DTSTART:20170326T010000
END:DAYLIGHT
BEGIN:STANDARD
TZOFFSETFROM:+0200
TZOFFSETTO:+0100
TZNAME:CET
DTSTART:20171029T010000
END:STANDARD
END:VTIMEZONE
BEGIN:VEVENT
DTSTART;TZID=Europe/Paris:20170402T080000
DTEND;TZID=Europe/Paris:20170402T120000
DTSTAMP:20260421T100716
CREATED:20160326T184239Z
LAST-MODIFIED:20170324T143339Z
UID:2921-1491120000-1491134400@www.lacouture62.fr
SUMMARY:Parcours du coeur
DESCRIPTION:Le parcours du coeur aura lieu le dimanche 2 avril 2017 de 8h30 à 12h00. Rendez-vous dans le hall de la salle des sports de La Couture.  \nInscriptions à partir de 8h00. \n3 parcours vous seront proposés : 5 km\, 9\,5 km et 11 km. Boissons et collations offertes à l’arrivée. \nN’oubliez pas votre participation financière pour la Fédération Française de Cardiologie ! \n
URL:https://www.lacouture62.fr/event/parcours-coeur-2/
LOCATION:Salle des sports\, Rue du Rietz\, La Couture\, 62136\, France
CATEGORIES:santé
ATTACH;FMTTYPE=image/png:https://www.lacouture62.fr/wp-content/uploads/2015/03/parcoursducoeur.png
END:VEVENT
END:VCALENDAR