BEGIN:VCALENDAR
VERSION:2.0
PRODID:-//La Couture - ECPv5.0.3//NONSGML v1.0//EN
CALSCALE:GREGORIAN
METHOD:PUBLISH
X-WR-CALNAME:La Couture
X-ORIGINAL-URL:https://www.lacouture62.fr
X-WR-CALDESC:Évènements pour La Couture
BEGIN:VTIMEZONE
TZID:Europe/Paris
BEGIN:DAYLIGHT
TZOFFSETFROM:+0100
TZOFFSETTO:+0200
TZNAME:CEST
DTSTART:20170326T010000
END:DAYLIGHT
BEGIN:STANDARD
TZOFFSETFROM:+0200
TZOFFSETTO:+0100
TZNAME:CET
DTSTART:20171029T010000
END:STANDARD
END:VTIMEZONE
BEGIN:VEVENT
DTSTART;TZID=Europe/Paris:20170404T043000
DTEND;TZID=Europe/Paris:20170404T043000
DTSTAMP:20260421T083136
CREATED:20170324T142702Z
LAST-MODIFIED:20170324T142702Z
UID:3394-1491280200-1491280200@www.lacouture62.fr
SUMMARY:Reprise de la collecte des déchets verts
DESCRIPTION:La collecte des déchets verts reprendra le 4 avril 2017 dès 4h30 et se terminera le 28 novembre 2017. \n
URL:https://www.lacouture62.fr/event/reprise-de-collecte-dechets-verts/
CATEGORIES:Environnement
ATTACH;FMTTYPE=image/jpeg:https://www.lacouture62.fr/wp-content/uploads/2013/03/dechets-verts.jpg
END:VEVENT
END:VCALENDAR