BEGIN:VCALENDAR
VERSION:2.0
PRODID:-//La Couture - ECPv5.0.3//NONSGML v1.0//EN
CALSCALE:GREGORIAN
METHOD:PUBLISH
X-WR-CALNAME:La Couture
X-ORIGINAL-URL:https://www.lacouture62.fr
X-WR-CALDESC:Évènements pour La Couture
BEGIN:VTIMEZONE
TZID:Europe/Paris
BEGIN:DAYLIGHT
TZOFFSETFROM:+0100
TZOFFSETTO:+0200
TZNAME:CEST
DTSTART:20170326T010000
END:DAYLIGHT
BEGIN:STANDARD
TZOFFSETFROM:+0200
TZOFFSETTO:+0100
TZNAME:CET
DTSTART:20171029T010000
END:STANDARD
END:VTIMEZONE
BEGIN:VEVENT
DTSTART;TZID=Europe/Paris:20171202T100000
DTEND;TZID=Europe/Paris:20171203T190000
DTSTAMP:20260425T162603
CREATED:20171123T103854Z
LAST-MODIFIED:20171123T104001Z
UID:4057-1512208800-1512327600@www.lacouture62.fr
SUMMARY:Salon de la gastronomie\, des vins et de l'artisanat
DESCRIPTION:La Municipalité et le Comité Organisateur des fêtes vous invitent à leur salon de la gastronomie\, des vins et de l’artisanat les 2 et 3 décembre 2017 de 10h à 19h  à la salle des fêtes de La Couture. \nLe dimanche 3 décembre de 11h à 16h\, sauf intempérie\, ballade en poney proposée par Les Petites Ecuries. \n
URL:https://www.lacouture62.fr/event/salon-de-gastronomie-vins-de-lartisanat/
LOCATION:Salle des fêtes\, Rue du Rietz\, LA COUTURE\, 62136\, France
CATEGORIES:Loisirs
ATTACH;FMTTYPE=image/jpeg:https://www.lacouture62.fr/wp-content/uploads/2015/11/Marché-de-Noel.jpg
END:VEVENT
END:VCALENDAR