BEGIN:VCALENDAR
VERSION:2.0
PRODID:-//La Couture - ECPv5.0.3//NONSGML v1.0//EN
CALSCALE:GREGORIAN
METHOD:PUBLISH
X-WR-CALNAME:La Couture
X-ORIGINAL-URL:https://www.lacouture62.fr
X-WR-CALDESC:Évènements pour La Couture
BEGIN:VTIMEZONE
TZID:Europe/Paris
BEGIN:DAYLIGHT
TZOFFSETFROM:+0100
TZOFFSETTO:+0200
TZNAME:CEST
DTSTART:20170326T010000
END:DAYLIGHT
BEGIN:STANDARD
TZOFFSETFROM:+0200
TZOFFSETTO:+0100
TZNAME:CET
DTSTART:20171029T010000
END:STANDARD
END:VTIMEZONE
BEGIN:VEVENT
DTSTART;TZID=Europe/Paris:20171201T150000
DTEND;TZID=Europe/Paris:20171203T180000
DTSTAMP:20260425T174011
CREATED:20171123T102926Z
LAST-MODIFIED:20171123T103129Z
UID:4052-1512140400-1512324000@www.lacouture62.fr
SUMMARY:Téléthon des 3 villages
DESCRIPTION:Pour la 3ème année\, les communes de La Couture\, Richebourg et Vieille-Chapelle organise leur Téléthon les 1er\, 2 et 3 décembre 2017. \nTéléthon des 3 villages 2017 \nA La Couture\, vous pourrez vous inscrire à un repas spectacle animé par Crazy Team et Anim’Art le samedi 2 décembre à 19h30 à la salle des sports. Inscription obligatoire en mairie ou à la Friterie de Julie pour le 27/11/17 à l’aide du bulletin : \nProgramme et repas Téléthon La Couture 2017 \n  \n  \n  \n
URL:https://www.lacouture62.fr/event/telethon-3-villages/
LOCATION:Salle des sports\, Rue du Rietz\, La Couture\, 62136\, France
CATEGORIES:événement associatif,santé,sport
ATTACH;FMTTYPE=image/jpeg:https://www.lacouture62.fr/wp-content/uploads/2015/11/Telethon.jpg
END:VEVENT
END:VCALENDAR